Workbook
Name Excel_BuiltIn__FilterDatabase_3: #REF!
Name Excel_BuiltIn__FilterDatabase_3: #REF!
Name Excel_BuiltIn__FilterDatabase_3: #REF!

Sheet Matriz de riesgo PEA
E2: MATRIZ DE RIESGOS PROVEEDORES DE ENSAYOS DE APTITUD | S2: Código | T2: PR-3.3-01 - Anexo C
E3: PROCESO | F3: Proveedores de Ensayos de Aptitud ISO/IEC 17043: 2010 | H3: Objetivo | I3: Proporcionar confianza a todas las partes interesadas en que un programa de ensayo de aptitud cumple con los requisitos mínimos para su ejecución. | S3: Versión | T3: 1
S4: Fecha: | T4: 43565
B6: No | C6: ACTIVIDAD / REQUISITO | D6: REQUISITO ISO/IEC 17043 RELACIONADO | E6: IDENTIFICACIÓN DEL RIESGO | K6: ANÁLISIS DE RIESGO | Q6: EVALUACIÓN DE RIESGO | S6: TÉCNICA DE EVALUACIÓN
K7: Consecuencias Ares de Impacto | O7: Ocurrencia
E8: Fuente del Riesgo | F8: Evento | G8: Efecto / Consecuencia / impacto | H8: Causa / Debilidad (por que puede ocurrir) | I8: Promedio de No Conformidades en el periodo | J8: Tipo de Riesgo | K8: Confianza en la evaluación | L8: Financiero / legal | M8: Calidad / Imagen | N8: Personas / Seguridad | O8: No Conformidades | P8: Frecuencia | Q8: Nivel de riesgo | R8: Clasificación Riesgo | S8: Tipo de técnica de evaluación 17011 | T8: Etapa de evaluación
B9: 1 | C9: Personal | D9: 4.2 | E9: Actividades Administrativas y Controles de proceso | F9: No se cuente con personal competente para la realización de las actividades de planeación, dirección, control y ejecución de un Ensayo de Aptitud. | G9: 1. Pérdida de confianza de los clientes 2. afectación a la validez de los resultados de evaluación de desempeño | H9: 1. Desconocimiento y no aplicación de los lineamientos y criterios establecidos para los perfiles y la gestión de personal. 2. Baja oferta de personal que cumpla lo requerido por el Programa de EA. | I9: =0/6 -> 0 | J9: Estratégico | K9: 4 | L9: 4 | M9: 5 | N9: 1 | O9: =IF(I9>=0.71,5,IF(I9>=0.51,4,IF(I9>=0.21,3,IF(I9>0,2,1)))) -> 1 | P9: 2 | Q9: =(AVERAGE(O9:P9))*(AVERAGE(K9:N9)) -> 5.25 | R9: =IF(Q9>15,"Crítico",IF(Q9>8,"Alto",IF(Q9>4,"Medio","Bajo"))) -> Medio | S9: Evaluación de registros Entrevistas | T9: Etapa 1. Etapa 2. Evaluaciones extraordinarias. Evaluaciones complementarias.
B10: 2 | C10: Equipos, instalaciones y medio ambiente | D10: 4.3 | E10: Aspectos Tecnológicos o Técnicos | F10: No se asegure la infraestructura necesaria que permita operar adecuadamente el Ensayo de Aptitud. | G10: Producción y almacenamiento de ítems de ensayo sin las condiciones requeridas. No se procese información de manera suficiente y adecuada | H10: 1.Falta de planificación de las condiciones de operación de un programa de ensayo de aptitud. 2. Recursos insuficientes | I10: =0/6 -> 0 | J10: Tecnológico | K10: 4 | L10: 3 | M10: 5 | N10: 2 | O10: =IF(I10>=0.71,5,IF(I10>=0.51,4,IF(I10>=0.21,3,IF(I10>0,2,1)))) -> 1 | P10: 3 | Q10: =(AVERAGE(O10:P10))*(AVERAGE(K10:N10)) -> 7 | R10: =IF(Q10>15,"Crítico",IF(Q10>8,"Alto",IF(Q10>4,"Medio","Bajo"))) -> Medio | S10: Evaluación de registros Testificación | T10: Etapa 1. Etapa 2. Evaluaciones extraordinarias. Evaluaciones complementarias.
B11: 3 | C11: Planificación | D11: 4.4.1 | E11: Actividades Administrativas y Controles de proceso | F11: No se identifiquen adecuadamente aquellos procesos que afectan directamente la calidad del EA | G11: Fallas en la planificación de los programas de ensayos de aptitud que limiten la operación o que invaliden los ensayos de aptitud | H11: 1. Desconocimiento de los requisitos aplicables de acuerdo con la norma 2. Desconocimiento de las necesidades del cliente/participante 3.Definición insufiente o inadecuada de los condiciones requeridas para el funcionamiento y operación del programa. | I11: =2/6 -> 0.33333333 | J11: Operativo | K11: 4 | L11: 1 | M11: 3 | N11: 1 | O11: =IF(I11>=0.71,5,IF(I11>=0.51,4,IF(I11>=0.21,3,IF(I11>0,2,1)))) -> 3 | P11: 2 | Q11: =(AVERAGE(O11:P11))*(AVERAGE(K11:N11)) -> 5.625 | R11: =IF(Q11>15,"Crítico",IF(Q11>8,"Alto",IF(Q11>4,"Medio","Bajo"))) -> Medio | S11: Evaluación de registros | T11: Etapa 1. Etapa 2. Evaluaciones extraordinarias. Evaluaciones complementarias.
B12: 4 | C12: Planificación | D12: 4.4.1 | E12: Actividades Administrativas y Controles de proceso | F12: El diseño del programa no responde a las necesidades de evaluación de desempeño de los participantes. | G12: 1. No se asegura que la ejecución de los ensayos de aptitud se realice de una forma adecuada. 2. Perdida de credibilidad de los clientes. 3. Trabajos no conformes, reprocesos. 4. Ensayo de aptitud con fallas críticas por lo que se podría llegar a invalidar el EA | H12: 1. Desconocimiento de los requisitos aplicables. 2. Falta de experticia del personal encargado de la planificación. 3. Falta de autoridad y supervisión del personal encargado de la planificación. | I12: =2/6 -> 0.33333333 | J12: Estratégico | K12: 4 | L12: 3 | M12: 5 | N12: 3 | O12: =IF(I12>=0.71,5,IF(I12>=0.51,4,IF(I12>=0.21,3,IF(I12>0,2,1)))) -> 3 | P12: 4 | Q12: =(AVERAGE(O12:P12))*(AVERAGE(K12:N12)) -> 13.125 | R12: =IF(Q12>15,"Crítico",IF(Q12>8,"Alto",IF(Q12>4,"Medio","Bajo"))) -> Alto | S12: Evaluación de registros | T12: Etapa 1. Etapa 2. Evaluaciones extraordinarias. Evaluaciones complementarias.
B13: 5 | C13: Preparación de los ítems de ensayo de aptitud | D13: 4.4.2 | E13: Actividades Administrativas y Controles de proceso | F13: Los lineamientos establecidos para la preparación del ítem de ensayo de aptitud, se definen de manera inadecuada o no se aplican correctamente. | G13: Fallas en la adquisición, recolección, preparación, manipulación y almacenamiento de los ítems de ensayos de aptitud, lo que puede conllevar a que el EA se invalide. | H13: 1. Desconocimiento de los requisitos establecidos en la norma 2. Falta de competencia técnica y supervisión | I13: =2/6 -> 0.33333333 | J13: Operativo | K13: 4 | L13: 1 | M13: 1 | N13: 1 | O13: =IF(I13>=0.71,5,IF(I13>=0.51,4,IF(I13>=0.21,3,IF(I13>0,2,1)))) -> 3 | P13: 3 | Q13: =(AVERAGE(O13:P13))*(AVERAGE(K13:N13)) -> 5.25 | R13: =IF(Q13>15,"Crítico",IF(Q13>8,"Alto",IF(Q13>4,"Medio","Bajo"))) -> Medio | S13: Evaluación documental Evaluación de registros Testificación | T13: Etapa 1. Etapa 2. Evaluaciones extraordinarias. Evaluaciones complementarias.
B14: 6 | C14: Homogeneidad y Estabilidad | D14: 4.4.3 | E14: Actividades Administrativas y Controles de proceso | F14: El ítem de ensayo de aptitud no sea estable u homogéneo | G14: Conclusiones erróneas con respecto al desempeño de los participantes, llegando inclusive a invalidar el EA Errores en las conclusiones sobre la homogeneidad y estabilidad del ítem de ensayo de aptitud que pueda llevar a invalidar el EA | H14: Desconocimiento de los requisitos de la norma Falta de un procedimiento que establezca la metodología para hacer estudios de estabilidad y homogeneidad. Falta de experiencia y desconocimiento de aspectos técnicos y estadísticos relacionados con los estudios de homogeneidad y estabilidad del ítem de ensayo de aptitud | I14: =2/6 -> 0.33333333 | J14: Operativo | K14: 4 | L14: 1 | M14: 1 | N14: 1 | O14: =IF(I14>=0.71,5,IF(I14>=0.51,4,IF(I14>=0.21,3,IF(I14>0,2,1)))) -> 3 | P14: 3 | Q14: =(AVERAGE(O14:P14))*(AVERAGE(K14:N14)) -> 5.25 | R14: =IF(Q14>15,"Crítico",IF(Q14>8,"Alto",IF(Q14>4,"Medio","Bajo"))) -> Medio | S14: Evaluación documental Evaluación de registros | T14: Etapa 1. Etapa 2. Evaluaciones extraordinarias. Evaluaciones complementarias.
B15: 7 | C15: Diseño Estadístico | D15: 4.4.4 | E15: Comportamiento Humano | F15: Se realice un diseño estadístico del EA que no conduzca al cumplimiento de los objetivos del programa de EA planteado. | G15: Conclusiones erróneas con respecto al desempeño de los participantes, llegando inclusive a invalidar el EA Afectación sobre el cliente final del OEC que participa en el EA, a raíz de los resultados de desempeño emitidos por el PEA | H15: 1. Falta de asignación de recursos para contratar personal competente y reforzar su competencia 2. Falta de inversión en las herramientas de apoyo estadístico 3.Falta de experiencia y desconocimiento de aspectos estadísticos relacionados con los EA | I15: =2/6 -> 0.33333333 | J15: Operativo | K15: 4 | L15: 5 | M15: 5 | N15: 1 | O15: =IF(I15>=0.71,5,IF(I15>=0.51,4,IF(I15>=0.21,3,IF(I15>0,2,1)))) -> 3 | P15: 4 | Q15: =(AVERAGE(O15:P15))*(AVERAGE(K15:N15)) -> 13.125 | R15: =IF(Q15>15,"Crítico",IF(Q15>8,"Alto",IF(Q15>4,"Medio","Bajo"))) -> Alto | S15: Evaluación de registros Testificación | T15: Etapa 1. Etapa 2. Evaluaciones extraordinarias. Evaluaciones complementarias.
B16: 8 | C16: Diseño Estadístico | D16: 4.4.4 | E16: Comportamiento Humano | F16: No se asegure la aplicación adecuada de factores que puedan incidir de manera significativa en el diseño de Programa de Ensayo de Aptitud | G16: Conclusiones erróneas con respecto al desempeño de los participantes, llegando inclusive a invalidar el EA | H16: Falta de experiencia y desconocimiento de aspectos estadísticos relacionados con los EA Falta de experticia y conocimiento técnico y su correlación con los aspectos estadísticos | I16: =2/6 -> 0.33333333 | J16: Operativo | K16: 4 | L16: 5 | M16: 5 | N16: 1 | O16: =IF(I16>=0.71,5,IF(I16>=0.51,4,IF(I16>=0.21,3,IF(I16>0,2,1)))) -> 3 | P16: 3 | Q16: =(AVERAGE(O16:P16))*(AVERAGE(K16:N16)) -> 11.25 | R16: =IF(Q16>15,"Crítico",IF(Q16>8,"Alto",IF(Q16>4,"Medio","Bajo"))) -> Alto | S16: Evaluación de registros Testificación | T16: Etapa 1. Etapa 2. Evaluaciones extraordinarias. Evaluaciones complementarias.
B17: 9 | C17: Valores Asignados | D17: 4.4.5 | E17: Aspectos Tecnológicos o Técnicos | F17: No se asegure la escogencia de un método adecuado para establecer el valor asignado y su trazabilidad metrológica, incluida la incertidumbre del valor asignado para el EA previsto | G17: 1. Conclusiones erróneas con respecto al desempeño de los participantes, llegando inclusive a invalidar el EA. 2. Afectación sobre el cliente final del Proveedor de Ensayos de aptitud que participa en el EA, a raíz de los resultados de desempeño | H17: 1. Falta de revisión y supervisión del responsable del diseño estadístico. 2.. No contar con personal competente para las actividades del EA 3. Falta de inversión en las herramientas de apoyo estadístico. 4. Falta de experticia y conocimiento técnico de manejo estadístico. | I17: =2/6 -> 0.33333333 | J17: Operativo | K17: 4 | L17: 5 | M17: 5 | N17: 2 | O17: =IF(I17>=0.71,5,IF(I17>=0.51,4,IF(I17>=0.21,3,IF(I17>0,2,1)))) -> 3 | P17: 2 | Q17: =(AVERAGE(O17:P17))*(AVERAGE(K17:N17)) -> 10 | R17: =IF(Q17>15,"Crítico",IF(Q17>8,"Alto",IF(Q17>4,"Medio","Bajo"))) -> Alto | S17: Evaluación documental Evaluación registros | T17: Etapa 1. Etapa 2. Evaluaciones extraordinarias. Evaluaciones complementarias.
B18: 10 | C18: Valores Asignados | D18: 4.4.5 | E18: Comportamiento Humano | F18: Potencial confabulación de los participantes haciendo divulgaciones anticipadas, que generen beneficios particulares. | G18: 1. Conclusiones erróneas con respecto al desempeño de los participantes, llegando inclusive a invalidar el EA 2. Afectación sobre el cliente final del PEA que participa en el EA, a raíz de los resultados de desempeño | H18: 1. Falta de aplicación de la política relativa a la divulgación de los valores asignados. 2. Controles ineficaces para prevenir divulgaciones anticipadas del valor asignado o confabulación de los participantes | I18: =2/6 -> 0.33333333 | J18: Operativo | K18: 4 | L18: 5 | M18: 5 | N18: 2 | O18: =IF(I18>=0.71,5,IF(I18>=0.51,4,IF(I18>=0.21,3,IF(I18>0,2,1)))) -> 3 | P18: 1 | Q18: =(AVERAGE(O18:P18))*(AVERAGE(K18:N18)) -> 8 | R18: =IF(Q18>15,"Crítico",IF(Q18>8,"Alto",IF(Q18>4,"Medio","Bajo"))) -> Medio | S18: Evaluación registros Entrevistas | T18: Etapa 1. Etapa 2. Evaluaciones extraordinarias. Evaluaciones complementarias.
B19: 11 | C19: Elección del Método o Procedimiento | D19: 4.5 | E19: Comportamiento Humano | F19: Obtener conclusiones erradas de desempeño de los participantes al no contar con lineamientos claros para la evaluación de la comparación de resultados obtenidos por diferentes métodos de ensayo o medida o la equivalencia técnica de los mismos. | G19: Existen diferencias significativas entre los métodos utilizados por los participantes y no se toman las medidas para evaluar los resultados, entregando a los participantes conclusiones de desempeño erróneas | H19: Falta de conocimiento técnico y/o estadístico para el manejo y análisis de la información entregada por los participantes. | I19: =1/6 -> 0.16666667 | J19: Operativo | K19: 4 | L19: 3 | M19: 5 | N19: 1 | O19: =IF(I19>=0.71,5,IF(I19>=0.51,4,IF(I19>=0.21,3,IF(I19>0,2,1)))) -> 2 | P19: 1 | Q19: =(AVERAGE(O19:P19))*(AVERAGE(K19:N19)) -> 4.875 | R19: =IF(Q19>15,"Crítico",IF(Q19>8,"Alto",IF(Q19>4,"Medio","Bajo"))) -> Medio | S19: Evaluación de registros | T19: Etapa 1. Etapa 2. Evaluaciones extraordinarias. Evaluaciones complementarias.
B20: 12 | C20: Operación de los programas de ensayos de aptitud | D20: 4.6 | E20: Actividades Administrativas y Controles de proceso | F20: Medición, ensayo o calibración del ítem de ensayo de aptitud de forma inadecuada, con resultados de desempeño erróneos para el participante dadas instrucciones que no son claras o no están lo suficientemente detalladas | G20: 1. Se dañe el ítem de ensayo de aptitud, con la consecuente reposición del ítem de parte del PEA 2. Resultados de desempeño erróneos para el participante. | H20: 1. Falta de experiencia y desconocimiento técnico del ítem de ensayo de aptitud 2. instrucciones que no son claras o no están lo suficientemente detalladas | I20: =0/6 -> 0 | J20: Operativo | K20: 4 | L20: 3 | M20: 3 | N20: 1 | O20: =IF(I20>=0.71,5,IF(I20>=0.51,4,IF(I20>=0.21,3,IF(I20>0,2,1)))) -> 1 | P20: 2 | Q20: =(AVERAGE(O20:P20))*(AVERAGE(K20:N20)) -> 4.125 | R20: =IF(Q20>15,"Crítico",IF(Q20>8,"Alto",IF(Q20>4,"Medio","Bajo"))) -> Medio | S20: Evaluación de registros | T20: Etapa 1. Etapa 2. Evaluaciones extraordinarias. Evaluaciones complementarias.
B21: 13 | C21: Operación de los programas de ensayos de aptitud | D21: 4.6 | E21: Actividades Administrativas y Controles de proceso | F21: Perdidas o daños en el ítem de ensayos de aptitud que afecten el resultado del participante. | G21: 1. Pérdida de la identificación del ítem de ensayo de aptitud. 2. Entrega incorrecta del ítem de ensayo de aptitud. 3. Daños en el ítem de ensayos de aptitud que afecten el resultado del participante. 4. Retrasos en el cronograma de ensayos de aptitud. | H21: 1. Falta de recursos para hacer una adecuada identificación, embalaje y distribución del ítem de ensayo de aptitud. 2. Falta de competencia técnica y supervisión | I21: =0/6 -> 0 | J21: Financiero | K21: 4 | L21: 3 | M21: 3 | N21: 1 | O21: =IF(I21>=0.71,5,IF(I21>=0.51,4,IF(I21>=0.21,3,IF(I21>0,2,1)))) -> 1 | P21: 1 | Q21: =(AVERAGE(O21:P21))*(AVERAGE(K21:N21)) -> 2.75 | R21: =IF(Q21>15,"Crítico",IF(Q21>8,"Alto",IF(Q21>4,"Medio","Bajo"))) -> Bajo | S21: Evaluación de registros Entrevistas Testificación | T21: Etapa 1. Etapa 2. Evaluaciones extraordinarias. Evaluaciones complementarias.
B22: 14 | C22: Análisis de datos y registros | D22: 4.7.1 | E22: Actividades Administrativas y Controles de proceso | F22: Entrega de resultados erróneos a los participantes del EA. | G22: 1. Error sistemático en los cálculos estadísticos que lleva a conclusiones y decisiones erróneas con respecto al desempeño de los participantes. 2. Resultados de desempeño de los participantes no confiables | H22: 1. Falta de competencia técnica a nivel estadístico 2. Falta de revisión de los datos obtenidos por el personal técnico con el fin de que sean válidos a nivel matemático y técnico. 3. Desconocimiento de los requisitos de la norma de acreditación. 4. Falta de procedimiento o procedimiento inadecuado o no aplicado en la definición de las herramientas estadísticas a utilizar en las diferentes etapas del programa de ensayos de aptitud. 5. Software no validado o sin mantenimiento o verificación | I22: =0/6 -> 0 | J22: Operativo | K22: 4 | L22: 3 | M22: 5 | N22: 1 | O22: =IF(I22>=0.71,5,IF(I22>=0.51,4,IF(I22>=0.21,3,IF(I22>0,2,1)))) -> 1 | P22: 4 | Q22: =(AVERAGE(O22:P22))*(AVERAGE(K22:N22)) -> 8.125 | R22: =IF(Q22>15,"Crítico",IF(Q22>8,"Alto",IF(Q22>4,"Medio","Bajo"))) -> Alto | S22: Evaluación documental Evaluación registros | T22: Etapa 1. Etapa 2. Evaluaciones extraordinarias. Evaluaciones complementarias.
B23: 15 | C23: Evaluación de desempeño | D23: 4.7.2 | E23: Aspectos Tecnológicos o Técnicos | F23: Resultados de desempeño de los participantes no confiables | G23: Conclusiones de desempeño erróneas que afectan al participante/cliente | H23: 1. Elección inapropiada el estadístico de desempeño 2. Desconocimiento estadístico | I23: =0/6 -> 0 | J23: Operativo | K23: 4 | L23: 5 | M23: 5 | N23: 2 | O23: =IF(I23>=0.71,5,IF(I23>=0.51,4,IF(I23>=0.21,3,IF(I23>0,2,1)))) -> 1 | P23: 1 | Q23: =(AVERAGE(O23:P23))*(AVERAGE(K23:N23)) -> 4 | R23: =IF(Q23>15,"Crítico",IF(Q23>8,"Alto",IF(Q23>4,"Medio","Bajo"))) -> Bajo | S23: Evaluación documental Evaluación registros | T23: Etapa 1. Etapa 2. Evaluaciones extraordinarias. Evaluaciones complementarias.
B24: 16 | C24: Informes | D24: 4.8 | E24: Aspectos Tecnológicos o Técnicos | F24: Los informes emitidos por el proveedor no son claros y exhaustivos de acuerdo con las necesidades y planificación del Programa de Ensayo Aptitud. | G24: Afectación de resultados en la evaluación de desempeño y su correspondiente calificación o interpretación. | H24: 1. Falla en Software 2. Falta de competencia técnica y estadística. 3. Ineficacia de los controles de revisión | I24: =0/6 -> 0 | J24: Tecnológico | K24: 4 | L24: 3 | M24: 5 | N24: 1 | O24: =IF(I24>=0.71,5,IF(I24>=0.51,4,IF(I24>=0.21,3,IF(I24>0,2,1)))) -> 1 | P24: 2 | Q24: =(AVERAGE(O24:P24))*(AVERAGE(K24:N24)) -> 4.875 | R24: =IF(Q24>15,"Crítico",IF(Q24>8,"Alto",IF(Q24>4,"Medio","Bajo"))) -> Medio | S24: Evaluación de registros | T24: Etapa 1. Etapa 2. Evaluaciones extraordinarias. Evaluaciones complementarias.
B25: 17 | C25: Comunicación con los participantes | D25: 4.9 | E25: Actividades Administrativas y Controles de proceso | F25: Desconocimiento o mala interpretación de la información del EA, por parte del participante. | G25: Afectación a los participantes en el cumplimiento de sus compromisos | H25: Canales de comunicación ineficaces o inexistentes. | I25: =0/6 -> 0 | J25: Operativo | K25: 4 | L25: 4 | M25: 5 | N25: 1 | O25: =IF(I25>=0.71,5,IF(I25>=0.51,4,IF(I25>=0.21,3,IF(I25>0,2,1)))) -> 1 | P25: 3 | Q25: =(AVERAGE(O25:P25))*(AVERAGE(K25:N25)) -> 7 | R25: =IF(Q25>15,"Crítico",IF(Q25>8,"Alto",IF(Q25>4,"Medio","Bajo"))) -> Medio | S25: Evaluación de registros Entrevista | T25: Etapa 1. Etapa 2. Evaluaciones extraordinarias. Evaluaciones complementarias.
B26: 18 | C26: Confidencialidad | D26: 4.10 | E26: Actividades Administrativas y Controles de proceso | F26: Potencial fuga de información confidencial | G26: Efectos legales y daño en la imagen tanto para el participante, como para el PEA. | H26: 1. No asignación de códigos seguros para preservar la confidencialidad del participante. 2. Información entregada a terceros por el personal del PEA por desconocimiento de los requisitos de la norma de 3.Confabulación con otros participantes. | I26: =0/6 -> 0 | J26: Operativo | K26: 4 | L26: 5 | M26: 5 | N26: 1 | O26: =IF(I26>=0.71,5,IF(I26>=0.51,4,IF(I26>=0.21,3,IF(I26>0,2,1)))) -> 1 | P26: 1 | Q26: =(AVERAGE(O26:P26))*(AVERAGE(K26:N26)) -> 3.75 | R26: =IF(Q26>15,"Crítico",IF(Q26>8,"Alto",IF(Q26>4,"Medio","Bajo"))) -> Bajo | S26: Evaluación de registros | T26: Etapa 1. Etapa 2. Evaluaciones extraordinarias. Evaluaciones complementarias.
B27: 19 | C27: Organización | D27: 5.1 | E27: Actividades Administrativas y Controles de proceso | F27: No se asegure una estructura de organización y gestión apropiada al alcance de las actividades de los programas de ensayos de aptitud. | G27: Resultados de desempeño de los participantes no válidos o poco confiables, con posible afectación para el participante(s). | H27: 1. Falta de competencia del personal asignado para las actividad del EA 2. El PEA considera que no requiere supervisión 3. controles ineficaces en la ejecución de actividades del EA. 4. Falta de asignación de recursos | I27: =1/6 -> 0.16666667 | J27: Estratégico | K27: 4 | L27: 5 | M27: 5 | N27: 2 | O27: =IF(I27>=0.71,5,IF(I27>=0.51,4,IF(I27>=0.21,3,IF(I27>0,2,1)))) -> 2 | P27: 2 | Q27: =(AVERAGE(O27:P27))*(AVERAGE(K27:N27)) -> 8 | R27: =IF(Q27>15,"Crítico",IF(Q27>8,"Alto",IF(Q27>4,"Medio","Bajo"))) -> Medio | S27: Evaluación documental | T27: Etapa 1. Etapa 2. Evaluaciones extraordinarias. Evaluaciones complementarias.
B28: 20 | C28: Sistema de Gestión, Control de Documentos y Control de Registros Control de Trabajo no conforme, Mejora, Acciones Correctivas, Acciones Preventivas, Auditorías internas, Revisiones por la Dirección | D28: 5.2 5.3 5.13 5.9 5.10 5.11 5.12 5.14 5.15 | E28: Actividades Administrativas y Controles de proceso | F28: uso de procesos y procedimientos inadecuados para la gestión de las actividades del Proveedor de ensayos de aptitud | G28: Fallas en las actividades de ensayos de aptitud a nivel operativo y/o administrativo. | H28: 1. Falta de revisión de los documentos requeridos o de su adecuación para el uso en ensayos de aptitud por recursos escasos o falta de competencia. 2. Falta de definición adecuada de los registros requeridos por falta de competencia. 3. Falta de competencia para llevar un adecuado control de los documentos y/o registros. 4. fallas en la identificación y tratamiento de desviaciones. 5. Baja oferta de servicios de auditoria con personal competente en la ISO/IEC17043 6. Deficiencias en los escenarios de revisión, auditoria y supervisión. | I28: =1/6 -> 0.16666667 | J28: Operativo | K28: 4 | L28: 4 | M28: 4 | N28: 2 | O28: =IF(I28>=0.71,5,IF(I28>=0.51,4,IF(I28>=0.21,3,IF(I28>0,2,1)))) -> 2 | P28: 2 | Q28: =(AVERAGE(O28:P28))*(AVERAGE(K28:N28)) -> 7 | R28: =IF(Q28>15,"Crítico",IF(Q28>8,"Alto",IF(Q28>4,"Medio","Bajo"))) -> Medio | S28: Evaluación documental Evaluación registros Entrevistas | T28: Etapa 1. Etapa 2. Evaluaciones extraordinarias. Evaluaciones complementarias.
B29: 21 | C29: Revisión de Pedidos, ofertas y contratos, | D29: 5.4 | E29: Actividades Administrativas y Controles de proceso | F29: No definir y acordar apropiadamente las ofertas de programas de ensayos de aptitud con respecto a que tipo de participantes va dirigido el ensayo de aptitud, o las necesidades del participante. | G29: Pérdida de confianza en el PEA por la oferta de programas de ensayos de aptitud ambiguos, o que no atienden a las necesidades | H29: 1. Falta de competencia en la definición del programa de ensayos de aptitud que se oferta. 2. Desconocimiento del sector, del ítem de ensayo y de los demás aspectos técnicos y estadísticos relacionados con el ensayo de aptitud. 3. Falta de compromiso de la dirección con el cliente, al subestimar sus necesidades, quejas y/o apelaciones. | I29: =0/6 -> 0 | J29: Operativo | K29: 4 | L29: 4 | M29: 5 | N29: 2 | O29: =IF(I29>=0.71,5,IF(I29>=0.51,4,IF(I29>=0.21,3,IF(I29>0,2,1)))) -> 1 | P29: 2 | Q29: =(AVERAGE(O29:P29))*(AVERAGE(K29:N29)) -> 5.625 | R29: =IF(Q29>15,"Crítico",IF(Q29>8,"Alto",IF(Q29>4,"Medio","Bajo"))) -> Medio | S29: Evaluación documental Evaluación registros Entrevistas | T29: Etapa 1. Etapa 2. Evaluaciones extraordinarias. Evaluaciones complementarias.
B30: 22 | C30: Subcontratación de servicios y Compra se servicios y suministros | D30: 5.5 5.6 | E30: Actividades Administrativas y Controles de proceso | F30: Selección y uso de subcontratistas y/o proveedores de productos o servicios no competentes. | G30: 1. Incumplimiento del cronograma de ensayos de aptitud por necesidad de cambio del ítem o reproceso de los estudios realizados. 2. Afectación de los resultados de los participantes que puede llevar a que se invalide el ensayo de aptitud. | H30: 1. Falta de recursos para realizar una adecuada compra o subcontratación 2. Definición inadecuada de los requisitos de compra y subcontratación 3. Definición inadecuada de los criterios para la evaluación a los proveedores de suministros y/o de servicios críticos. | I30: =0/6 -> 0 | J30: Financiero | K30: 4 | L30: 5 | M30: 5 | N30: 4 | O30: =IF(I30>=0.71,5,IF(I30>=0.51,4,IF(I30>=0.21,3,IF(I30>0,2,1)))) -> 1 | P30: 3 | Q30: =(AVERAGE(O30:P30))*(AVERAGE(K30:N30)) -> 9 | R30: =IF(Q30>15,"Crítico",IF(Q30>8,"Alto",IF(Q30>4,"Medio","Bajo"))) -> Alto | S30: Evaluación registros Entrevistas Testificación | T30: Etapa 1. Etapa 2. Evaluaciones extraordinarias. Evaluaciones complementarias.
B31: 23 | C31: Servicio al Cliente, y Quejas y Apelaciones | D31: 5,7 5.8 | E31: Actividades Administrativas y Controles de proceso | F31: Insatisfacción del cliente/participantes | G31: Falta de confiabilidad en los resultados de ensayos de aptitud de los participantes, y daño en la imagen del PEA y del participante/cliente | H31: 1. No atender las necesidades y/o requerimiento del cliente/participante de manera clara, oportuna, coherente y objetiva. | I31: =0/6 -> 0 | J31: Operativo | K31: 4 | L31: 4 | M31: 5 | N31: 2 | O31: =IF(I31>=0.71,5,IF(I31>=0.51,4,IF(I31>=0.21,3,IF(I31>0,2,1)))) -> 1 | P31: 4 | Q31: =(AVERAGE(O31:P31))*(AVERAGE(K31:N31)) -> 9.375 | R31: =IF(Q31>15,"Crítico",IF(Q31>8,"Alto",IF(Q31>4,"Medio","Bajo"))) -> Alto | S31: Evaluación registros Entrevistas | T31: Etapa 1. Etapa 2. Evaluaciones extraordinarias. Evaluaciones complementarias.

Sheet Mapa de riesgo PEA
E2: MAPA DE RIESGOS PROVEEDORES DE ENSAYOS DE APTITUD | Q2: Código | R2: PR-3.3-01 - Anexo C
Q3: Versión | R3: 1
B5: No | C5: REQUISITOS | D5: Análisis de riesgo | F5: Nivel de riesgo | G5: Riesgo | H5: Tipo de riesgo | I5: Descripción del evento
D6: C | E6: O
B7: ='Matriz de riesgo PEA'!B9 -> 1 | C7: ='Matriz de riesgo PEA'!C9 -> Personal | D7: =AVERAGE('Matriz de riesgo PEA'!K9:N9) -> 3.5 | E7: =AVERAGE('Matriz de riesgo PEA'!O9:P9) -> 1.5 | F7: =D7*E7 -> 5.25 | G7: =IF(F7>15,"Crítico",IF(F7>8,"Alto",IF(F7>4,"Medio","Bajo"))) -> Medio | H7: ='Matriz de riesgo PEA'!J9 -> Estratégico | I7: ='Matriz de riesgo PEA'!F9 -> No se cuente con personal competente para la realización de las actividades de planeación, dirección, control y ejecución de un Ensayo de Aptitud.
B8: ='Matriz de riesgo PEA'!B10 -> 2 | C8: ='Matriz de riesgo PEA'!C10 -> Equipos, instalaciones y medio ambiente | D8: =AVERAGE('Matriz de riesgo PEA'!K10:N10) -> 3.5 | E8: =AVERAGE('Matriz de riesgo PEA'!O10:P10) -> 2 | F8: =D8*E8 -> 7 | G8: =IF(F8>15,"Crítico",IF(F8>8,"Alto",IF(F8>4,"Medio","Bajo"))) -> Medio | H8: ='Matriz de riesgo PEA'!J10 -> Tecnológico | I8: ='Matriz de riesgo PEA'!F10 -> No se asegure la infraestructura necesaria que permita operar adecuadamente el Ensayo de Aptitud.
B9: ='Matriz de riesgo PEA'!B11 -> 3 | C9: ='Matriz de riesgo PEA'!C11 -> Planificación | D9: =AVERAGE('Matriz de riesgo PEA'!K11:N11) -> 2.25 | E9: =AVERAGE('Matriz de riesgo PEA'!O11:P11) -> 2.5 | F9: =D9*E9 -> 5.625 | G9: =IF(F9>15,"Crítico",IF(F9>8,"Alto",IF(F9>4,"Medio","Bajo"))) -> Medio | H9: ='Matriz de riesgo PEA'!J11 -> Operativo | I9: ='Matriz de riesgo PEA'!F11 -> No se identifiquen adecuadamente aquellos procesos que afectan directamente la calidad del EA
B10: ='Matriz de riesgo PEA'!B12 -> 4 | C10: ='Matriz de riesgo PEA'!C12 -> Planificación | D10: =AVERAGE('Matriz de riesgo PEA'!K12:N12) -> 3.75 | E10: =AVERAGE('Matriz de riesgo PEA'!O12:P12) -> 3.5 | F10: =D10*E10 -> 13.125 | G10: =IF(F10>15,"Crítico",IF(F10>8,"Alto",IF(F10>4,"Medio","Bajo"))) -> Alto | H10: ='Matriz de riesgo PEA'!J12 -> Estratégico | I10: ='Matriz de riesgo PEA'!F12 -> El diseño del programa no responde a las necesidades de evaluación de desempeño de los participantes.
B11: ='Matriz de riesgo PEA'!B13 -> 5 | C11: ='Matriz de riesgo PEA'!C13 -> Preparación de los ítems de ensayo de aptitud | D11: =AVERAGE('Matriz de riesgo PEA'!K13:N13) -> 1.75 | E11: =AVERAGE('Matriz de riesgo PEA'!O13:P13) -> 3 | F11: =D11*E11 -> 5.25 | G11: =IF(F11>15,"Crítico",IF(F11>8,"Alto",IF(F11>4,"Medio","Bajo"))) -> Medio | H11: ='Matriz de riesgo PEA'!J13 -> Operativo | I11: ='Matriz de riesgo PEA'!F13 -> Los lineamientos establecidos para la preparación del ítem de ensayo de aptitud, se definen de manera inadecuada o no se aplican correctamente.
B12: ='Matriz de riesgo PEA'!B14 -> 6 | C12: ='Matriz de riesgo PEA'!C14 -> Homogeneidad y Estabilidad | D12: =AVERAGE('Matriz de riesgo PEA'!K14:N14) -> 1.75 | E12: =AVERAGE('Matriz de riesgo PEA'!O14:P14) -> 3 | F12: =D12*E12 -> 5.25 | G12: =IF(F12>15,"Crítico",IF(F12>8,"Alto",IF(F12>4,"Medio","Bajo"))) -> Medio | H12: ='Matriz de riesgo PEA'!J14 -> Operativo | I12: ='Matriz de riesgo PEA'!F14 -> El ítem de ensayo de aptitud no sea estable u homogéneo
B13: ='Matriz de riesgo PEA'!B15 -> 7 | C13: ='Matriz de riesgo PEA'!C15 -> Diseño Estadístico | D13: =AVERAGE('Matriz de riesgo PEA'!K15:N15) -> 3.75 | E13: =AVERAGE('Matriz de riesgo PEA'!O15:P15) -> 3.5 | F13: =D13*E13 -> 13.125 | G13: =IF(F13>15,"Crítico",IF(F13>8,"Alto",IF(F13>4,"Medio","Bajo"))) -> Alto | H13: ='Matriz de riesgo PEA'!J15 -> Operativo | I13: ='Matriz de riesgo PEA'!F15 -> Se realice un diseño estadístico del EA que no conduzca al cumplimiento de los objetivos del programa de EA planteado.
B14: ='Matriz de riesgo PEA'!B16 -> 8 | C14: ='Matriz de riesgo PEA'!C16 -> Diseño Estadístico | D14: =AVERAGE('Matriz de riesgo PEA'!K16:N16) -> 3.75 | E14: =AVERAGE('Matriz de riesgo PEA'!O16:P16) -> 3 | F14: =D14*E14 -> 11.25 | G14: =IF(F14>15,"Crítico",IF(F14>8,"Alto",IF(F14>4,"Medio","Bajo"))) -> Alto | H14: ='Matriz de riesgo PEA'!J16 -> Operativo | I14: ='Matriz de riesgo PEA'!F16 -> No se asegure la aplicación adecuada de factores que puedan incidir de manera significativa en el diseño de Programa de Ensayo de Aptitud
B15: ='Matriz de riesgo PEA'!B17 -> 9 | C15: ='Matriz de riesgo PEA'!C17 -> Valores Asignados | D15: =AVERAGE('Matriz de riesgo PEA'!K17:N17) -> 4 | E15: =AVERAGE('Matriz de riesgo PEA'!O17:P17) -> 2.5 | F15: =D15*E15 -> 10 | G15: =IF(F15>15,"Crítico",IF(F15>8,"Alto",IF(F15>4,"Medio","Bajo"))) -> Alto | H15: ='Matriz de riesgo PEA'!J17 -> Operativo | I15: ='Matriz de riesgo PEA'!F17 -> No se asegure la escogencia de un método adecuado para establecer el valor asignado y su trazabilidad metrológica, incluida la incertidumbre del valor asignado para el EA previsto
B16: ='Matriz de riesgo PEA'!B18 -> 10 | C16: ='Matriz de riesgo PEA'!C18 -> Valores Asignados | D16: =AVERAGE('Matriz de riesgo PEA'!K18:N18) -> 4 | E16: =AVERAGE('Matriz de riesgo PEA'!O18:P18) -> 2 | F16: =D16*E16 -> 8 | G16: =IF(F16>15,"Crítico",IF(F16>8,"Alto",IF(F16>4,"Medio","Bajo"))) -> Medio | H16: ='Matriz de riesgo PEA'!J18 -> Operativo | I16: ='Matriz de riesgo PEA'!F18 -> Potencial confabulación de los participantes haciendo divulgaciones anticipadas, que generen beneficios particulares.
B17: ='Matriz de riesgo PEA'!B19 -> 11 | C17: ='Matriz de riesgo PEA'!C19 -> Elección del Método o Procedimiento | D17: =AVERAGE('Matriz de riesgo PEA'!K19:N19) -> 3.25 | E17: =AVERAGE('Matriz de riesgo PEA'!O19:P19) -> 1.5 | F17: =D17*E17 -> 4.875 | G17: =IF(F17>15,"Crítico",IF(F17>8,"Alto",IF(F17>4,"Medio","Bajo"))) -> Medio | H17: ='Matriz de riesgo PEA'!J19 -> Operativo | I17: ='Matriz de riesgo PEA'!F19 -> Obtener conclusiones erradas de desempeño de los participantes al no contar con lineamientos claros para la evaluación de la comparación de resultados obtenidos por diferentes métodos de ensayo o medida o la equivalencia técnica de los mismos.
B18: ='Matriz de riesgo PEA'!B20 -> 12 | C18: ='Matriz de riesgo PEA'!C20 -> Operación de los programas de ensayos de aptitud | D18: =AVERAGE('Matriz de riesgo PEA'!K20:N20) -> 2.75 | E18: =AVERAGE('Matriz de riesgo PEA'!O20:P20) -> 1.5 | F18: =D18*E18 -> 4.125 | G18: =IF(F18>15,"Crítico",IF(F18>8,"Alto",IF(F18>4,"Medio","Bajo"))) -> Medio | H18: ='Matriz de riesgo PEA'!J20 -> Operativo | I18: ='Matriz de riesgo PEA'!F20 -> Medición, ensayo o calibración del ítem de ensayo de aptitud de forma inadecuada, con resultados de desempeño erróneos para el participante dadas instrucciones que no son claras o no están lo suficientemente detalladas
... B29: ='Matriz de riesgo PEA'!B31 -> 23 | C29: ='Matriz de riesgo PEA'!C31 -> Servicio al Cliente, y Quejas y Apelaciones | D29: =AVERAGE('Matriz de riesgo PEA'!K31:N31) -> 3.75 | E29: =AVERAGE('Matriz de riesgo PEA'!O31:P31) -> 2.5 | F29: =D29*E29 -> 9.375 | G29: =IF(F29>15,"Crítico",IF(F29>8,"Alto",IF(F29>4,"Medio","Bajo"))) -> Alto | H29: ='Matriz de riesgo PEA'!J31 -> Operativo | I29: ='Matriz de riesgo PEA'!F31 -> Insatisfacción del cliente/participantes

Sheet Registro Eventos e Incidentes
B2: Evento e Incidente | C2: Descripción | D2: Fecha de Ocurrencia | E2: Tratamiento / Corrección | F2: Responsable | G2: Estado

Sheet Data
B2: Fuentes de Riesgo | C2: Opciones de Tratamiento de Riesgo | D2: Tipos de Riesgo
B3: Relaciones Comerciales y Contractuales | C3: Prevenir | D3: Estrategico
B4: Normatividad y Regulación | C4: Proteger | D4: Operativo
B5: Circunstancias Economicas | C5: Transferir | D5: Financiero
B6: Comportamiento Humano | C6: Retener | D6: De Mercado
B7: Eventos naturales | C7: Aceptar | D7: Ambiental
B8: Circunstancias Politicas | C8: Evitar | D8: Tecnologico
B9: Aspectos Tecnologicos o Técnicos | D9: Fisico
B10: Actividades Administrativas y Controles de proceso | D10: SISO
B11: Personas Maliciosas | D11: Seguridad de la Información
