Workbook

Sheet 2020-03-30
D1: ALCANCE DE ACREDITACIÓN LABORATORIO DE CALIBRACIÓN | O1: FR-3.0-02 Fecha: 2020-03-30 | S1: CUMPLE
S2: NO CUMPLE
O3: Versión 7 | S3: Código corresponde
S4: Código no corresponde
S5: Intervalo válido
A6: NOMBRE OEC | I6: TIPO DE EVALUACIÓN | S6: Intervalo no válido
S7: Incertidumbre coherente
A8: CÓDIGO ACREDITACIÓN | I8: FECHA ÚLTIMA MODIFICACIÓN | S8: Incertidumbre no coherente
S9: Documento vigente y aplicable
A10: DIRECCIÓN PRINCIPAL | I10: FECHA DE EVALUACIÓN | S10: Documento no vigente pero aplicable
S11: Documento vigente pero no aplicable
A12: ALCANCE INICIAL (SOLICITADO O ACREDITADO) | S12: Documento no vigente y no aplicable
A13: CÓDIGO (1) | B13: MAGNITUD (2) | C13: SEDE (3) | D13: INTERVALO DE MEDICIÓN (4) | E13: INSTRUMENTO A CALIBRAR (5) | F13: INCERTIDUMBRE EXPANDIDA DE MEDIDA (6) | G13: INSTRUMENTOS, EQUIPOS PATRONES UTLIZADOS (7) | H13: DOCUMENTO NORMATIVO (8) | I13: MÉTODO DE CALIBRACIÓN (9) | J13: PERSONAL AUTORIZADO (10) | K13: DURACIÓN DE LA CALIBRACIÓN (11) | L13: NÚMERO DE CERTIFICADOS EMITIDOS ÚLTIMO AÑO (12) | M13: REVISIÓN DEL ALCANCE (13) (Espacio Reservado para ONAC - Ver instrucciones de diligenciamiento)
M14: a | N14: b | O14: c | P14: d | Q14: Concepto Líder del equipo
B15: =IF(ISBLANK(A15),"",VLOOKUP(A15,Hoja1!$A$1:$B$83,2,FALSE))
B16: =IF(ISBLANK(A16),"",VLOOKUP(A16,Hoja1!$A$1:$B$83,2,FALSE))
B17: =IF(ISBLANK(A17),"",VLOOKUP(A17,Hoja1!$A$1:$B$83,2,FALSE))
B18: =IF(ISBLANK(A18),"",VLOOKUP(A18,Hoja1!$A$1:$B$83,2,FALSE))
B19: =IF(ISBLANK(A19),"",VLOOKUP(A19,Hoja1!$A$1:$B$83,2,FALSE))
B20: =IF(ISBLANK(A20),"",VLOOKUP(A20,Hoja1!$A$1:$B$83,2,FALSE))
B21: =IF(ISBLANK(A21),"",VLOOKUP(A21,Hoja1!$A$1:$B$83,2,FALSE))
B22: =IF(ISBLANK(A22),"",VLOOKUP(A22,Hoja1!$A$1:$B$83,2,FALSE))
A23: Notas: Registrar en este campo las notas que apliquen. La nota referente a la incertidumbre expandida de medida, factor de cobertura “k” y probabilidad de cobertura debe ser declarada en el alcance.
A25: ALCANCE AMPLIACIÓN (diligenciar solo en caso de que se solicite ampliación del alcance en el marco de una evaluación de seguimiento o reevaluación) | S25: Documento no vigente y no aplicable
A26: CÓDIGO (1) | B26: MAGNITUD (2) | C26: SEDE (3) | D26: INTERVALO DE MEDICIÓN (4) | E26: INSTRUMENTO A CALIBRAR (5) | F26: INCERTIDUMBRE EXPANDIDA DE MEDIDA (6) | G26: INSTRUMENTOS, EQUIPOS PATRONES UTLIZADOS (7) | H26: DOCUMENTO NORMATIVO (8) | I26: MÉTODO DE CALIBRACIÓN (9) | J26: PERSONAL AUTORIZADO (10) | K26: DURACIÓN DE LA CALIBRACIÓN (11) | L26: NÚMERO DE CERTIFICADOS EMITIDOS ÚLTIMO AÑO (12) | M26: REVISIÓN DEL ALCANCE (13) (Espacio Reservado para ONAC - Ver instrucciones de diligenciamiento)
M27: a | N27: b | O27: c | P27: d | Q27: Concepto Líder del equipo
B28: =IF(ISBLANK(A28),"",VLOOKUP(A28,Hoja1!$A$1:$B$83,2,FALSE))
B29: =IF(ISBLANK(A29),"",VLOOKUP(A29,Hoja1!$A$1:$B$83,2,FALSE))
B30: =IF(ISBLANK(A30),"",VLOOKUP(A30,Hoja1!$A$1:$B$83,2,FALSE))
B31: =IF(ISBLANK(A31),"",VLOOKUP(A31,Hoja1!$A$1:$B$83,2,FALSE))
B32: =IF(ISBLANK(A32),"",VLOOKUP(A32,Hoja1!$A$1:$B$83,2,FALSE))
B33: =IF(ISBLANK(A33),"",VLOOKUP(A33,Hoja1!$A$1:$B$83,2,FALSE))
B34: =IF(ISBLANK(A34),"",VLOOKUP(A34,Hoja1!$A$1:$B$83,2,FALSE))
B35: =IF(ISBLANK(A35),"",VLOOKUP(A35,Hoja1!$A$1:$B$83,2,FALSE))
A36: Notas: Registrar en este campo las notas que apliquen. La nota referente a la incertidumbre expandida de medida, factor de cobertura “k” y probabilidad de cobertura debe ser declarada en el alcance.
A38: ALCANCE MODIFICACIÓN
A39: AMPLIAR | C39: REDUCIR | E39: SUSPENDER | G39: ACTUALIZAR | I39: DESCRIPCIÓN DE LAS MODIFICACIONES REALIZADAS:
A40: NO OTORGAR / NO AMPLIAR | C40: RETIRAR | E40: LEVANTAR MEDIDA | G40: MODIFICAR EL ALCANCE SOLICITADO PARA OTORGAMIENTO O AMPLIACIÓN
A41: CÓDIGO (1) | B41: MAGNITUD (2) | C41: SEDE (3) | D41: INTERVALO DE MEDICIÓN (4) | E41: INSTRUMENTO A CALIBRAR (5) | F41: INCERTIDUMBRE EXPANDIDA DE MEDIDA (6) | G41: INSTRUMENTOS, EQUIPOS PATRONES UTLIZADOS (7) | H41: DOCUMENTO NORMATIVO (8) | I41: MÉTODO DE CALIBRACIÓN (9) | J41: REVISIÓN DEL ALCANCE (11) (Espacio Reservado para ONAC - Ver instrucciones de diligenciamiento)
J42: a | K42: b | L42: c | M42: d | N42: Concepto Líder del equipo
...

Sheet Hoja1
A1: DA1 | B1: Presión y frecuencia acústica | D1: Inicial | E1: Código corresponde | F1: Intervalo válido | G1: Incertidumbre coherente | H1: Documento vigente y aplicable | I1: CUMPLE
A2: DA2 | B2: Intensidad y velocidad acústica | D2: Seguimiento | E2: Código no corresponde | F2: Intervalo no válido | G2: Incertidumbre no coherente | H2: Documento no vigente pero aplicable | I2: NO CUMPLE
A3: DA3 | B3: Impedancia acústica | D3: Reevaluación+Ampliación | H3: Documento vigente pero no aplicable
A4: DA4 | B4: Potencia acústica (ultrasonido) | D4: Ampliación | H4: Documento no vigente y no aplicable
A5: DA5 | B5: Vibración | D5: Extraordinaria
A6: DB1 | B6: Concentración de sustancia/ Fracción de cantidad | D6: Reevaluación+Ampliación
A7: DB2 | B7: Conductividad | D7: Seguimiento+Ampliación
A8: DB5 | B8: Potencial de Hidrógeno - pH
A9: DC1 | B9: Ángulo
A10: DC2 | B10: Formas (cilíndricas, esféricas, otras formas, paralelismo, parámetros de roscas, perpendicularidad, planitud, rectitud, redondez)
A11: DC3 | B11: Longitud
A12: DC4 | B12: Rugosidad
A13: DC5 | B13: Tamaño de partícula (granulometría)
A14: DC6 | B14: Mediciones geodésicas
A15: DC7 | B15: Nivel
A16: DD1 | B16: Actividad de fuentes radioactivas
A17: DD2 | B17: Magnitudes dosimétricas (kerma en el aire, exposición, tasa de kerma en el aire, tasa de exposición)
A18: DD3 | B18: Magnitudes radiométricas
A19: DD4 | B19: Magnitudes de radioprotección (dosis equivalentes, tasa de dosis equivalentes, dosis equivalente personal, dosis equivalente ambiental, tasa de dosis equivalente personal, tasa de dosis equivalente ambiental, tasa de tejido bajo un determinado espesor)
... A83: DK3 | B83: Volumen (Medidores de agua)

Sheet Instrucciones diligenciamiento 
C1: INSTRUCCIONES PARA DIILIGENCIAR EL ALCANCE DE ACREDITACIÓN | F1: FR-3.0-02 Aprobación: 2020-03-30 Versión 7 | T1: CODIGOS NUEVOS
B2: Para evaluaciones iniciales y de ampliación, el OEC debe diligenciar el formato de alcance, con excepción de la sección 11 REVISIÓN DEL ALCANCE, que queda reservada para ONAC. Para evaluaciones de seguimiento y reevaluación, ONAC es responsable del diligenciamiento del alcance en su totalidad. Relacione con exactitud y sin ambigüedades las actividades de calibración para las cuales solicita la acreditación o ampliación. Observaciones: 1. El alcance debe contener los términos del Diccionario de la lengua española de la Real Academia Española - RAE, sin incluir marcas registradas. 2. Si se requiere la traducción del alcance, esta debe estar respaldada por una traducción oficial. 3. Especificar el alcance por cada sede que pertenece al laboratorio, (cuando aplique). Lo anterior no implica generar varios archivos, sino distinguir cada sede diligenciando el campo denominado de esta forma. 4. Adoptar el uso de la coma como separador decimal en la expresión de los valores reportados en el alcance. Notas que se deben colocar al pie del alcance, en caso que apliquen: 1. La incertidumbre expandida de medida corresponde a la incertidumbre estándar de medición multiplicada por el factor de cobertura “k”, con una probabilidad de cobertura de aproximadamente el 95% (sin excepción, esta nota o una redacción similar debe ser declarada en el alcance). 2. Para calibración de instrumentos de pesaje, se debe referir a “d” como división de escala. 3. Para calibración en el área dimensional, se debe referir a “L” como longitud en metros. 4. Para la expresión de incertidumbre expandida de medida expresada en forma de ecuación, el laboratorio debe identificar el significado de cada variable y constante. 5. Será optativo de cada laboratorio colocar las notas adicionales que se requieran para dar claridad al alcance. *CMC: Capacidad de medición y calibración (Ver CEA-3.0-06). | T2: CODIGOS | U2: MAGNITUD
T3: DA1 | U3: Presión y frecuencia acústica
B4: (1) CÓDIGO | T4: DA2 | U4: Intensidad y velocidad acústica
B5: Desplegar las casillas y elegir el código, el cual corresponde al ámbito de calibración que es la combinación de la modalidad (área) y tipo (sub-área) definidos en el listado 1 “Códigos de ámbito de calibración” que se presenta al final del formulario de solicitud para acreditación de labotratorios de calibración, FR-3.2-02. | T5: DA3 | U5: Impedancia acústica
B6: (2) MAGNITUD | T6: DA4 | U6: Potencia acústica (ultrasonido)
B7: Desplegar las casillas y elegir la magnitud, para la actividad de calibración que solicita la acreditación, en función del Sistema Internacional de Unidades - SI. Ver listado 1 “Códigos de ámbito de calibración” que se presenta al final del formulario de solicitud para acreditación de laboratorios de calibración FR-3.2-02. Por favor no modificar, ni incluir específicaciones dentro de la descripción de la magnitud. | T7: DA5 | U7: Vibración
B8: (3) SEDE CALIBRACIÓN | T8: DB1 | U8: Concentración de sustancia/ Fracción de cantidad
B9: Indicar la sede en la cual se realiza la calibración: "Dirección completa y ciudad". Si el alcance cuenta con calibración en sitio, por favor indicar "En sitio". Si el alcance corresponde a un laboratorio móvil, indicar la ubicación de la unidad: "Laboratorio móvil: dirección completa y ciudad". | T9: DB2 | U9: Conductividad
B10: (4) INTERVALO DE MEDICIÓN | T10: DB3 | U10: Potencial de Hidrógeno - pH
B11: Para cada magnitud, se deben indicar el (los) intervalo(s) que cubre la actividad de calibración o los puntos fijos asociados. Se deberán delimitar el(los) intervalo(s) cubierto(s) evitando duplicidad o traslape. Se deben utilizar las unidades del Sistema Internacional. Para la expresión de intervalos, por favor tener en cuenta las siguientes indicaciones: a) No utilizar paréntesis ni guiones. Estos solo se utilizarán cuando adicional a las unidades del SI, se requiera el uso de unidades que no hagan parte del mismo. Estan unidades se expresarán siempre abajo de las unidades del SI b) Registrar las unidades de medida a continuación de cada valor. c) Utilizar unidades del Sistema Internacional de Unidades. d) Si se expresan valores en porcentaje (%), indicar a qué está referido. e) Los intervalos de medición deben estar expresados utilizando los símbolos < > ≥ ≤. Por favor, no utilizar expresiones como 50,1 a 200,99, sino > 50 > M > 200. f) Los intervalos se deben expresar como una potencia de 10 de la siguiente manera, 2 x 10-2 y no como 2 E-2 ó 2 X 10 -2. g) Usar los prefijos del Sistema Internacional facilita la expresión de cantidades muy grandes o muy pequeñas. Se recomienda que los prefijos sean seleccionados de tal manera que los valores numéricos que le antecedan se sitúen entre 0,1 y 1000. h) Para facilitar la lectura de números con varios dígitos, deben ser separados en grupos de tres, contando del signo decimal a la derecha y a la izquierda. Los grupos deben ser separados por un espacio, sin usar coma, punto u otro medio; para los números de cuatro cifras, se puede omitir ese espacio. | T11: DC1 | U11: Ángulo
B12: Ejemplo correcto: 15 mg ≤ m ≤ 1000 mg Ejemplo incorrecto: (15 - 1000) mg Ejemplo correcto: 20 °C < T ≤ 100 °C 100 °C < T ≤ 200 °C Ejemplo incorrecto: 20 °C a 100 °C 100,1 °C a 200 °C Ejemplo correcto: 20,68 MPa < P ≤ 34,47 MPa Ejemplo incorrecto: 20 684 kPa a 34 473 kPa (Utilizar las unidades de medida que impliquen el uso de la menor cantidad de cifras) Ejemplo correcto: 20,68 MPa < P ≤ 34,47 MPa Ejemplo incorrecto: 20684 kPa a 34473 kPa (Utilizar las unidades de medida que impliquen el uso de la menor cantidad de cifras) | T12: DC2 | U12: Formas (cilíndricas, esféricas, otras formas, paralelismo, parámetros de roscas, perpendicularidad, planitud, rectitud, redondez)
B13: (5) INSTRUMENTO A CALIBRAR | T13: DC3 | U13: Longitud
B14: Señale el instrumento o tipo de instrumentos de medición que desea calibrar. | T14: DC4 | U14: Rugosidad
B15: (6) INCERTIDUMBRE EXPANDIDA DE MEDIDA | T15: DC5 | U15: Tamaño de partícula (granulometría)
... B30: A continuación se relacionan los aspectos que el Experto técnico debe verificar durante la revisión del alcance en Etapa 1 y la verificación que debe realizar en Etapa 2; para cada aspecto hay una lista desplegable, así: a) Verificar que el código asignado corresponda a la magnitud según el Listado 1 “Códigos de ámbito de calibración” que se presenta al final del formulario de solicitud para acreditación de laboratorios de calibración FR-3.2-02. Opciones de lista desplegable: Código corresponde / Código no corresponde. b) Identificar la validez de los intervalos de medición los cuales deben ser demostrados a través de los patrones que posee el laboratorio, las confirmaciones/verificaciones/validaciones de los métodos y los alcances de los documentos normativos. Opciones de lista desplegable: Intervalo válido / Intervalo no válido. c) Incertidumbre expandida de medida: verificar que este valor sea coherente con el Instituto o Laboratorio que ofrece la trazabilidad de las mediciones. Opciones de lista desplegable: Incertidumbre coherente / Incertidumbre no coherente. d) Verificar que los documentos normativos indiquen fecha y versión, que estén actualizados y que apliquen al tipo de instrumento a calibrar. Opciones de lista desplegable: Documento vigente y aplicable / Documento no vigente pero aplicable / Documento vigente pero no aplicable / Documento no vigente y no aplicable. Una vez el Experto técnico ha diligenciado la información anterior, el Líder de equipo debe registrar para cada magnitud si "CUMPLE" o "NO CUMPLE", tanto en Etapa 1 como en Etapa 2 y de esta forma evidenciar la revisión del alcance en cada etapa de la evaluación. | T30: DE9 | U30: Potencia C.A.
T31: DE10 | U31: Potencia C.C
T32: DE11 | U32: Transformación C.A./C.C. (Tensión y corriente eléctrica)
T33: DE12 | U33: Resistencia
T34: DE13 | U34: Tensión eléctrica C.A.
T35: DE14 | U35: Tensión eléctrica C.C
T36: DE15 | U36: Transferencia de tensión C.A./C.C.
T37: DE16 | U37: Simulación eléctrica de temperatura
T38: DE17 | U38: Densidad del flujo electrónico
T39: DE18 | U39: Inducción magnética
T40: DE19 | U40: Propiedades de materiales electrónicos (permeabilidad, pérdidas magnéticas)
T41: DE20 | U41: Potencia en RF (atenuación)
T42: DE21 | U42: Potencia en RF (parámetros de dispersión, coeficiente de reflexión, coeficiente de transmisión)
... T85: DK3 | U85: Volumen (Medidores de agua)
